BEGIN:VCALENDAR
VERSION:2.0
PRODID:-//pretix//pretix.eu//
BEGIN:VTIMEZONE
TZID:Europe/Berlin
BEGIN:STANDARD
DTSTART:20001029T040000
RRULE:FREQ=YEARLY;BYDAY=-1SU;BYMONTH=10
TZNAME:CET
TZOFFSETFROM:+0200
TZOFFSETTO:+0100
END:STANDARD
BEGIN:DAYLIGHT
DTSTART:20000326T030000
RRULE:FREQ=YEARLY;BYDAY=-1SU;BYMONTH=3
TZNAME:CEST
TZOFFSETFROM:+0100
TZOFFSETTO:+0200
END:DAYLIGHT
END:VTIMEZONE
BEGIN:VEVENT
UID:pretix-kirche.ruhr-2fluegel-0@tickets.kirche.ruhr
DTSTART;TZID=Europe/Berlin:20260327T190000
DTEND;TZID=Europe/Berlin:20260327T200000
DESCRIPTION:Tickets: https://tickets.kirche.ruhr/2fluegel/\nEinlass: 27.03.
 2026 18:30\nVeranstalter: Evangelische Kirchengemeinde Essen-Überruhr
DTSTAMP:20260422T104853Z
LOCATION:Stephanuskirche\, Langenberger Str. 432\, 45277 Essen
SUMMARY:2Flügel - Leidenschaft Leben
END:VEVENT
END:VCALENDAR
